BEGIN:VCALENDAR
VERSION:2.0
PRODID:-//eventon.com NONSGML v1.0//EN
CALSCALE:GREGORIAN
METHOD:PUBLISH
BEGIN:VEVENT
UID:69ea5535cf0cf
DTSTAMP:20260423T172157Z
DTSTART:20200304T190000Z
DTEND:20200304T210000Z
LOCATION:Institutt for Psykoterapi Maridalsveien 323
SUMMARY:Fagmøte med Per Are Løkke 4. mars 2020: Individets andre fødsel
DESCRIPTION:Fagmøte med Per Are Løkke 4. mars 2020: Individets andre fød
 sel\nhttps://instpsyk.no/events/fagmote-med-per-are-lokke-4-mars-2020-indiv
 idets-andre-fodsel/
URL:https://instpsyk.no/events/fagmote-med-per-are-lokke-4-mars-2020-individets-andre-fodsel/
END:VEVENT
END:VCALENDAR