BEGIN:VCALENDAR
VERSION:2.0
PRODID:-//eventon.com NONSGML v1.0//EN
CALSCALE:GREGORIAN
METHOD:PUBLISH
BEGIN:VEVENT
UID:69e89e8f453fb
DTSTAMP:20260422T101023Z
DTSTART:20180606T190000Z
DTEND:20180606T010000Z
LOCATION:Institutt for Psykoterapi Maridalsveien 323
SUMMARY:Sommermøte med Lene Auestad
DESCRIPTION:Sommermøte med Lene Auestad\nhttps://instpsyk.no/events/sommer
 mote-med-lene-auestad/
URL:https://instpsyk.no/events/sommermote-med-lene-auestad/
END:VEVENT
END:VCALENDAR