BEGIN:VCALENDAR
VERSION:2.0
PRODID:-//eventon.com NONSGML v1.0//EN
CALSCALE:GREGORIAN
METHOD:PUBLISH
BEGIN:VEVENT
UID:69e522dce8c36
DTSTAMP:20260419T184548Z
DTSTART:20130731
DTEND:20130801
LOCATION:
SUMMARY:48th IPA Congress
DESCRIPTION:Facing the Pain: Clinical Experience and the Development of Psy
 choanalytic Knowledge.\nhttps://instpsyk.no/events/48th-ipa-congress-praha-
 facing-the-pain-clinical-experience-and-the-development-of-psychoanalytic-k
 nowledge/
URL:https://instpsyk.no/events/48th-ipa-congress-praha-facing-the-pain-clinical-experience-and-the-development-of-psychoanalytic-knowledge/
END:VEVENT
END:VCALENDAR