BEGIN:VCALENDAR
VERSION:2.0
PRODID:-//eventon.com NONSGML v1.0//EN
CALSCALE:GREGORIAN
METHOD:PUBLISH
BEGIN:VEVENT
UID:69e73b82a8abd
DTSTAMP:20260421T085530Z
DTSTART:20251105T190000Z
DTEND:20251105T210000Z
LOCATION:Institutt for Psykoterapi Maridalsveien 323
SUMMARY:Per Are Løkke: Martti Siirala
DESCRIPTION:\nhttps://instpsyk.no/events/per-are-lokke-martti-siirala/
URL:https://instpsyk.no/events/per-are-lokke-martti-siirala/
END:VEVENT
END:VCALENDAR