BEGIN:VCALENDAR
VERSION:2.0
PRODID:-//eventon.com NONSGML v1.0//EN
CALSCALE:GREGORIAN
METHOD:PUBLISH
BEGIN:VEVENT
UID:69e63929ee109
DTSTAMP:20260420T143313Z
DTSTART:20250409T170000Z
DTEND:20250409T190000Z
LOCATION:Institutt for Psykoterapi Maridalsveien 323
SUMMARY:Amalia Carli\,  psykologi og alkymi i et jungiansk perspektiv
DESCRIPTION:\nhttps://instpsyk.no/events/amalia-carli-psykologi-og-alkymi-i
 -et-jungiansk-perspektiv/
URL:https://instpsyk.no/events/amalia-carli-psykologi-og-alkymi-i-et-jungiansk-perspektiv/
END:VEVENT
END:VCALENDAR